Workbook
Name Admin_Support_Clerical: 'Occupation Structure'!$A$2:$A$83
Name Alabama: 'MSA Lists'!$C$1:$C$14
Name Alaska: 'MSA Lists'!$D$1:$D$3
Name Arizona: 'MSA Lists'!$E$1:$E$8
Name Arkansas: 'MSA Lists'!$F$1:$F$9
Name CAGE: INDIRECT('Defined Lists'!$B$3)
Name California: 'MSA Lists'!$G$1:$G$27
Name CLIN_Description: INDIRECT('Defined Lists'!$E$3)
Name CLIN_SLIN: INDIRECT('Defined Lists'!$D$3)
Name Colorado: 'MSA Lists'!$H$1:$H$8
Name Company_Name: INDIRECT('Defined Lists'!$A$3)
Name Connecticut: 'MSA Lists'!$I$1:$I$9
Name Contract_Number: 'Invoice Summary'!$B$2
Name Delaware: 'MSA Lists'!$J$1:$J$4
Name District_of_Columbia: 'MSA Lists'!$K$1:$K$2
Name Division_List: #REF!
Name DivList: #REF!
Name Engineer_Scientist: 'Occupation Structure'!$G$2:$G$53
Name First_Date_Invoiced_Cost_Incurred: 'Invoice Summary'!$F$2
Name Florida: 'MSA Lists'!$L$1:$L$23
Name Foreign_Countries: 'MSA Lists'!$B$2:$B$250
Name Georgia: 'MSA Lists'!$M$1:$M$16
Name Guam: 'MSA Lists'!$BB$1
Name Hawaii: 'MSA Lists'!$N$1:$N$3
Name Idaho: 'MSA Lists'!$O$1:$O$8
Name Illinois: 'MSA Lists'!$P$1:$P$14
Name Indiana: 'MSA Lists'!$Q$1:$Q$16
Name Information_Technology: 'Occupation Structure'!$E$2:$E$46
Name Invoice_Cage: INDIRECT('Invoiced Labor'!$B$2)
Name Invoice_CLIN_SLIN: INDIRECT('Invoiced Labor'!$D$2)
Name Invoice_Company: INDIRECT('Invoiced Labor'!$A$2)
Name Invoice_Date: 'Invoice Summary'!$E$2
Name Invoice_Direct_Cost: INDIRECT('Invoiced Labor'!$N$2)
Name Invoice_Hours: INDIRECT('Invoiced Labor'!$M$2)
Name Invoice_Labor_Category: INDIRECT('Invoiced Labor'!$F$2)
Name Invoice_LCAT_ID: INDIRECT('Invoiced Labor'!$G$2)
Name Invoice_MSA_Code: INDIRECT('Invoiced Labor'!$K$2)
Name Invoice_Number: 'Invoice Summary'!$D$2
Name Invoice_Prime_Sub: INDIRECT('Invoiced Labor'!$C$2)
Name Invoice_Site: INDIRECT('Invoiced Labor'!$H$2)
Name Invoice_Total_Cost: INDIRECT('Invoiced Labor'!$O$2)
Name Invoice_Unique_Employee_ID: INDIRECT('Invoiced Labor'!$L$2)
Name Iowa: 'MSA Lists'!$R$1:$R$10
Name Kansas: 'MSA Lists'!$S$1:$S$7
Name Kentucky: 'MSA Lists'!$T$1:$T$6
Name KO_KS_List: #REF!
Name Last_Date_Invoiced_Cost_Incurred: 'Invoice Summary'!$G$2
Name LCAT_ID: INDIRECT('LCAT List'!$A$2)
Name LCAT_Name: INDIRECT('LCAT List'!$B$2)
Name LCAT_Section: INDIRECT('LCAT List'!$C$2)
Name LCAT_Type: 'Occupation Structure'!$A$1:$H$1
Name Louisiana: 'MSA Lists'!$U$1:$U$6
Name Maine: 'MSA Lists'!$V$1:$V$6
Name Major_Subordinate_Command: 'Invoice Summary'!$I$2
Name Major_Subordinate_Directorate: 'Invoice Summary'!$J$2
Name Maryland: 'MSA Lists'!$W$1:$W$8
Name Massachusetts: 'MSA Lists'!$X$1:$X$9
Name Michigan: 'MSA Lists'!$Y$1:$Y$16
Name Minnesota: 'MSA Lists'!$Z$1:$Z$9
Name Mississippi: 'MSA Lists'!$AA$1:$AA$5

Sheet Change History Log
A1: Date | B1: Version | C1: Changes
A2: 46146 | B2: 3.7 | C2: Incorporated a plethora of changes, including data validation, to correctly capture the contract number and task order in the proper format. Re-write of most of the instructions for added clarification as well as many other updates (too many to list).
A3: 46169 | B3: 3.8 | C3: Added an easily identified version number in the first row of the Quick Start Guide. Also resized the table from B1:K3 to B1:K2 within the Invoice Summary worksheet. This change was incorporated as the data ingestion Tool (LCAT Tool) was pulling the vendor data from the 3rd row versus the 2nd row of information.
A4: 46182 | B4: 3.9 | C4: Removed the "State" selection from both the Proposed and Invoiced Labor worksheet and now have one MSA selection.
A5: 46183 | B5: 4 | C5: Inserted a false column (hidden) preceding the "Employee MSA" column in both the Proposed and Invoiced Labor columns. This was accomplished to avoid potential data ingestion Tool issues for the LCAT Tool that ingests these APG Vendor Reports.
A6: 46188 | B6: 4.1 | C6: Added the 2 Alpha Character Country Code to the "Employee MSA" column AFTER the MSA Code listing in the drop-down.
A7: 46260 | B7: 4.2 | C7: Invoice Summary tab: Data Validation requiring date in the M/DD/YYYY format for the Invoice_Date, Start Date, and End Date in the 2nd row (cells E2, F2, and G2, respectively). Also, set rules to avoid illegitimate dates, such as 3/42/206777. Invoice Summary: Changed Instructional Up Arrow located in cell H3 from "Select" to read "Dropdown PoP." Proposed Labor sheet: Conditional formatting is now triggered if columns K, L, or M are left blank within an "active row." Submission will be rejected if columns K, L, or M are left blank or if Vendor formulas are inputted. Similarly, column E requires an LCAT entry if values are in columns K, L, or M of an "active row." Invoiced Labor sheet: Conditional formatting is now triggered if columns M, N, or O are left blank within an "active row." Submission will be rejected if columns M, N, or O are left blank or if Vendor formulas are inputted. Similarly, column F requires an LCAT entry if values are in columns M, N, or O of an "active row." Proposed & Invoiced Labor worksheets: Format Rows and Format Columns have been disabled. Vendors can no longer hide rows or columns as they create data ingestion errors.
A8: 46316 | B8: 4.3 | C8: Proposed and Invoiced worksheets: Conditional Formatting is triggered when a Proposed or Invoiced LCAT is absent when corresponding values for HRS, DL and Total Cost are populated, OR, when the LCAT is selected and one or more of the 3 corresponding values are missing. This assists the Analyst in identifying proposal or invoicing errors in the submission. Submission will be rejected when mustard colored highlighting is present. Defined Lists: Similarly, cells H4:I6 MUST be Inputted to remove conditional formatting. Submission will be rejected when mustard colored highlighting is present. Potential Recovery Amount and Visualizations Worksheets (Visualization I and II): These worksheets quantify and display the variance between Proposed and Invoiced amounts. The variance is calculated and then extended by the number of Invoiced Hours (column J) to determine the total potential recovery amount. Visualization I worksheet added – Dual-Layer Donut Chart The worksheet includes a dual‑layer donut chart that visually summarizes invoice status and billing variance: Outer Ring Displays the “Not Proposed” or "Unmatched" portion of the invoice (highlighted red). The remainder of the ring represents the “Invoiced Excluding "Not Proposed” amount (highlighted gray). Inner Ring Represents billing variance categories using color coding: Mauve (pink) – Potential Recovery Amount ≥ 5% Orange – Overbilled between >0% and <5% Green – Underbilled < 0% Each segment is sized according to the calculated dollar value of the variance category, providing a quick read of how billing discrepancies are distributed. Visualization II: Provides same metrics as Visualization I, but with different visualization graphics, depicting a separate Pie Chart that displays the Total Invoice Amount, the "Not Proposed" or Unmatched and the Invoiced Excluding "Not Proposed." The 2nd visualization is a Stacked Bar Chart that shows all Overbilled, broken down by > = 5% (Mauve/pink highlighting color) and > 0% and < 5% depicted in an orange highlighted color. The second column (green highlighted color) displays the Underbilled < 0%.

Sheet Quick Start Guide
A1: APG Vendor Report - Version 4.3
A2: This Vendor Report shall be submitted concurrently with each Cost invoice submission to WAWF. | C2: Other Color Coding
A3: Submit this Vendor Report, with no other attachments, to usarmy.apg.acc.mbx.apg-vendor-report@army.mil with copies to all POCs listed on the "Defined Lists" tab. The filename for the Vendor Report will be: (Vendor Name)_APG_Vendor_Report_(Date: MMDDYYYY). Be sure to cc: COR and KO minimally, on the cc line. Power Automate will then notify those on the cc line of your submission by forwarding a SharePoint link to the COR to Approve or Deny a vendor report submission. | C3: Contractor Input (Unlocked)
A4: Defined Lists: List all companies performing with corresponding CAGE codes and identify if each company is a prime contractor or subcontractor. Also list all CLINs (may be narrowed to only applicable ones, but listing more won't cause any problems) along with a short description of supplies/services of each CLIN. All POCs for Government and Contractor (Prime only) must be identified to ensure proper distribution of reports and other documentation. Note that cells H4:I6 MUST be inputted to remove conditional formatting. Failure to input these cells will result in a rejection of the submission. | C4: Auto-Populate (Locked)
A5: Vendor LCAT Crosswalk: If the vendor elects to import an existing Excel worksheet that accomplishes the requirements, as described below, they may do so, however, the worksheet shall be named "Vendor LCAT Crosswalk." Please prepare this support as you would like to receive it if you were representing the government. It should be clear, transparent, and self-explanatory. Requirements of the Vendor LCAT Crosswalk: Vendors are required to provide a Labor Category (LCAT) crosswalk that includes a separate column for those LCATs originally proposed along with a corresponding column that identifies the "Best Fit" choice (615 LCAT choices). Specifically, these 615 choices include "Professional" and "SCA" (Service Contract Act) labor descriptions provided in pdf format to facilitate a "Best Fit" selection. These entries, by row, shall also include the corresponding direct labor rates proposed. LCATs that are added post award or during PoP (never proposed) need to be added (rebase lined) and coordinated, and agreed to by the KO. These entries shall include the Company Name, LCAT, geographic location, and its respective direct labor rate by PoP.
A6: Proposed Labor: List all labor categories (LCATs) and corresponding fields (e.g. location, hours, etc.) proposed for the period/year being invoiced. For subcontracts, direct cost is the amount paid by the prime to the subcontractors including any indirect costs and profit to the subcontractor, while total cost would be the cost to the Government including direct cost paid to the subcontractor plus any indirect expenses (e.g. subcontractor handling charge (SHC) and/or G&A) from the prime Contractor. Specifically, column M should reflect column L's entry w/burden (Fringe, O/H, G&A, etc. but NOT Fee). Similarly, Subcontractor entries in column M would include the Prime's additional burden, such as G&A and SHC, but NOT Fee. Fee is captured within cell G33 of the Invoiced Summary tab and should reconcile with the WAWF cost voucher. Do not include any formulas in the Proposed Labor worksheet, and specifically, not in columns K, L, and M.
A7: Invoiced Labor: List all labor categories (LCATs) and corresponding fields (e.g. location, hours, etc.) being invoiced. LCATs/individuals being invoiced shall be listed once for each CLIN being invoiced (e.g. if Chris P. Bacon performs CLIN 0001 & 0002, then list him in two different rows, one per CLIN). Vendors are encouraged to tailor the Employee Name or ID# (Column L) to denote Overtime (OT) or other differentiators as the situation may dictate, e.g., John Smith-OT, E05492-OT, John Smith-Shift_2, etc. Please coordinate with your COR and KO for maximum effectiveness. Column O should reflect column N's entry w/burden (Fringe, O/H, G&A, etc. but NOT Fee). Similarly, Subcontractor entries in column O would include the Prime's additional burden, such as G&A and SHC, but NOT Fee. Fee is captured within cell G33 of the Invoiced Summary tab and should reconcile with the WAWF cost voucher. Do not include any formulas in the Invoiced Labor worksheet, and specifically not in columns M, N, and O.
A8: Invoice Summary: Show how invoiced labor along with other cost elements (e.g. materials) add up to the total amount invoiced. Feel free to edit below row 14 as needed to help show a concise breakout while minimizing administrative burden of preparing this worksheet.
A9: LCAT List: This tab lists selectable labor categories. Specifically, eCRAFT LCATs. Be sure to obtain the Professional and Service Contract Act (SCA) LCAT descriptions in two separate pdfs. Please coordinate with your ACC POCs.
A10: Potential Recovery Amount: This streamlined analysis sheet captures cost overruns by identifying each unique LCAT descriptor, defined by: Company Name, LCAT, and Geographic Location. A weighted average is computed for each separate unique descriptor for both the Proposed AND the Invoiced direct labor rates. There are five (5) separate buckets, defined by the percentage above or below the Proposed Direct Labor Cost, relative to the Invoiced Direct Labor (delta). They are as follows: Potential Recovery > 5% - Mauve colored heading): See column P of the Potential Recovery Amount" worksheet. Overbilled between > 0% and < 5% - Orange colored heading - see column Q of the" Potential Recovery Amount" worksheet. Not Proposed - Red colored heading in column R. Underbilled < 0% - Green colored heading in column S. Accurately Billed (Absolute): - Blue colored heading located in column T. The aggregate of each separate "bucket" is displayed in Visualization I & Visualization II worksheets. Invoiced rate submissions that were never proposed nor rebase lined will return a "Not Proposed" response in column I and shall be addressed immediately. CORs may reject CDRL submissions that identify "Not Proposed" responses. A "Contractor Notes" column (column Q) has been added to capture contractor feedback regarding computed cost overruns. Contractors are encouraged to import support data (Excel or pdf) in a separate tab/worksheet, they deem appropriate in support of assertions made in column Q, "Contractor Notes".
A11: CLIN Summary: This tab sums labor invoiced (total labor cost only) for each CLIN.
A12: Red Tab Sheets are reserved to be completed in accordance with CDRL Instructions - Contract Modification Log and Projections.
A13: Indicates_A_Named_List
A14: Helpful Link
A15: Metropolitan Statistical Area Definitions: https://www.census.gov/geographies/reference-maps/2020/geo/cbsa.html

Sheet Defined Lists
A1: Industry Partner List | D1: Applicable CLINs | F1: POC List
A2: Company_Name | B2: CAGE | C2: Prime_Sub | D2: CLIN_SLIN | E2: CLIN_Description | F2: Government Contractor | G2: Job Title | H2: Name | I2: Email
A3: {="'"&_xlfn.TEXTAFTER(CELL("filename",A2),"]")&"'!$"&CHAR(COLUMN()+64)&"$4:$"&CHAR(COLUMN()+64)&"$"&MAX(4,IF(NOT(ISERROR($A4:$C1025)), ROW($A4:$C1025)*($A4:$C1025<>"")))} -> 'Defined Lists'!$A$4:$A$4 | B3: {="'"&_xlfn.TEXTAFTER(CELL("filename",B2),"]")&"'!$"&CHAR(COLUMN()+64)&"$4:$"&CHAR(COLUMN()+64)&"$"&MAX(4,IF(NOT(ISERROR($A4:$C1025)), ROW($A4:$C1025)*($A4:$C1025<>"")))} -> 'Defined Lists'!$B$4:$B$4 | C3: {="'"&_xlfn.TEXTAFTER(CELL("filename",C2),"]")&"'!$"&CHAR(COLUMN()+64)&"$4:$"&CHAR(COLUMN()+64)&"$"&MAX(4,IF(NOT(ISERROR($A4:$C1025)), ROW($A4:$C1025)*($A4:$C1025<>"")))} -> 'Defined Lists'!$C$4:$C$4 | D3: {="'"&_xlfn.TEXTAFTER(CELL("filename",D2),"]")&"'!$"&CHAR(COLUMN()+64)&"$4:$"&CHAR(COLUMN()+64)&"$"&MAX(4,IF(NOT(ISERROR($D4:$E1025)), ROW($D4:$E1025)*($D4:$E1025<>"")))} -> 'Defined Lists'!$D$4:$D$4 | E3: {="'"&_xlfn.TEXTAFTER(CELL("filename",E2),"]")&"'!$"&CHAR(COLUMN()+64)&"$4:$"&CHAR(COLUMN()+64)&"$"&MAX(4,IF(NOT(ISERROR($D4:$E1025)), ROW($D4:$E1025)*($D4:$E1025<>"")))} -> 'Defined Lists'!$E$4:$E$4
F4: Government | G4: Contracting Officer (KO)
F5: Government | G5: Contracting Specialist (KS)
F6: Government | G6: Contracting Officer Representative (COR)

Sheet Vendor LCAT Crosswalk
B1: Internal Labor Category | C1: Proposed (LOE) | D1: eCRAFT LCAT Crosswalk
B2: Bookkeeper | C2: Budget Entry | D2: Accounting Clerk I
B3: Engineer Entry | C3: Engineer General | D3: Engineer I

Sheet LCAT List
A1: LCAT_ID | B1: LCAT_Name | C1: LCAT_Section
A2: {="'"&_xlfn.TEXTAFTER(CELL("filename",A1),"]")&"'!$"&CHAR(COLUMN()+64)&"$3:$"&CHAR(COLUMN()+64)&"$"&MAX(IF(NOT(ISBLANK($A3:$D10000))+ISERROR($A3:$D10000),ROW($A3:$D10000)))} -> 'LCAT List'!$A$3:$A$617 | B2: {="'"&_xlfn.TEXTAFTER(CELL("filename",B1),"]")&"'!$"&CHAR(COLUMN()+64)&"$3:$"&CHAR(COLUMN()+64)&"$"&MAX(IF(NOT(ISBLANK($A3:$D10000))+ISERROR($A3:$D10000),ROW($A3:$D10000)))} -> 'LCAT List'!$B$3:$B$617 | C2: {="'"&_xlfn.TEXTAFTER(CELL("filename",C1),"]")&"'!$"&CHAR(COLUMN()+64)&"$3:$"&CHAR(COLUMN()+64)&"$"&MAX(IF(NOT(ISBLANK($A3:$D10000))+ISERROR($A3:$D10000),ROW($A3:$D10000)))} -> 'LCAT List'!$C$3:$C$617
A3: 01011 | B3: Accounting Clerk I | C3: Admin_Support_Clerical
A4: 01012 | B4: Accounting Clerk II | C4: Admin_Support_Clerical
A5: 01013 | B5: Accounting Clerk III | C5: Admin_Support_Clerical
A6: ACE1 | B6: Acquisition Cost Estimator I | C6: Professional
A7: ACE2 | B7: Acquisition Cost Estimator II | C7: Professional
A8: ACE3 | B8: Acquisition Cost Estimator III | C8: Professional
A9: AMS1 | B9: Acquisition Management Support I | C9: Professional
A10: AMS2 | B10: Acquisition Management Support II | C10: Professional
A11: AMS3 | B11: Acquisition Management Support III | C11: Professional
A12: 01020 | B12: Administrative Assistant | C12: Admin_Support_Clerical
A13: 23010 | B13: Aerospace Structural Welder | C13: Wage
A14: 30010 | B14: Air Traffic Control Specialist, Center (HFO) | C14: Wage
A15: 30011 | B15: Air Traffic Control Specialist, Station (HFO) | C15: Wage
A16: 30012 | B16: Air Traffic Control Specialist, Terminal (HFO) | C16: Wage
A17: 23019 | B17: Aircraft Logs And Records Technician | C17: Technician
A18: 23040 | B18: Aircraft Mechanic Helper (Airframe And Power Plant Mechanic Helper) | C18: Wage
A19: 23021 | B19: Aircraft Mechanic I | C19: Wage
A20: 23022 | B20: Aircraft Mechanic II | C20: Wage
A21: 23023 | B21: Aircraft Mechanic III | C21: Wage
A22: 23050 | B22: Aircraft Painter | C22: Wage
A23: 23060 | B23: Aircraft Servicer (Airport Utility Worker) | C23: Wage
A24: 23070 | B24: Aircraft Survival Flight Equipment Technician | C24: Technician
... A33: 12010 | B33: Ambulance Driver | C33: Wage
A34: ANFS1 | B34: Analyst, Financial Systems I | C34: Professional
A35: ANFS2 | B35: Analyst, Financial Systems II | C35: Professional
A36: ANFS3 | B36: Analyst, Financial Systems III | C36: Professional
A37: ANFS4 | B37: Analyst, Financial Systems IV | C37: Professional
A38: ANM1 | B38: Analyst, Management I | C38: Professional
A39: ANM2 | B39: Analyst, Management II | C39: Professional
A40: ANM3 | B40: Analyst, Management III | C40: Professional
A41: ANP1 | B41: Analyst, Operations I | C41: Professional
A42: ANP2 | B42: Analyst, Operations II | C42: Professional
A43: ANP3 | B43: Analyst, Operations III | C43: Professional
A44: 23110 | B44: Appliance Mechanic | C44: Wage
A45: 30021 | B45: Archeological Technician I | C45: Technician
A46: 30022 | B46: Archeological Technician II | C46: Technician
A47: 30023 | B47: Archeological Technician III | C47: Technician
A48: 16010 | B48: Assembler | C48: Wage
...

Sheet Proposed Labor
A1: Proposed_Company | B1: Proposed_ CAGE | C1: Proposed_ Prime_Sub | D1: LCAT Type (Optional) | E1: Proposed_Labor_Category | F1: Proposed_ LCAT_ID | G1: Proposed_ Site | H1: Employee State | I1: Employee MSA | J1: Proposed_ MSA_Code | K1: Proposed_ Hours | L1: Proposed_ Direct_Cost | M1: Proposed_ Total_Cost
A2: {="'"&_xlfn.TEXTAFTER(CELL("filename",A1),"]")&"'!$"&CHAR(COLUMN()+64)&"$3:$"&CHAR(COLUMN()+64)&"$"&MAX(3,IF(NOT(ISERROR($A3:$M3543)), ROW($A3:$M3543)*($A3:$M3543<>"")))} -> 'Proposed Labor'!$A$3:$A$3 | B2: {="'"&_xlfn.TEXTAFTER(CELL("filename",B1),"]")&"'!$"&CHAR(COLUMN()+64)&"$3:$"&CHAR(COLUMN()+64)&"$"&MAX(3,IF(NOT(ISERROR($A3:$M3543)), ROW($A3:$M3543)*($A3:$M3543<>"")))} -> 'Proposed Labor'!$B$3:$B$3 | C2: {="'"&_xlfn.TEXTAFTER(CELL("filename",C1),"]")&"'!$"&CHAR(COLUMN()+64)&"$3:$"&CHAR(COLUMN()+64)&"$"&MAX(3,IF(NOT(ISERROR($A3:$M3543)), ROW($A3:$M3543)*($A3:$M3543<>"")))} -> 'Proposed Labor'!$C$3:$C$3 | E2: {="'"&_xlfn.TEXTAFTER(CELL("filename",E1),"]")&"'!$"&CHAR(COLUMN()+64)&"$3:$"&CHAR(COLUMN()+64)&"$"&MAX(3,IF(NOT(ISERROR($A3:$M3543)), ROW($A3:$M3543)*($A3:$M3543<>"")))} -> 'Proposed Labor'!$E$3:$E$3 | F2: {="'"&_xlfn.TEXTAFTER(CELL("filename",F1),"]")&"'!$"&CHAR(COLUMN()+64)&"$3:$"&CHAR(COLUMN()+64)&"$"&MAX(3,IF(NOT(ISERROR($A3:$M3543)), ROW($A3:$M3543)*($A3:$M3543<>"")))} -> 'Proposed Labor'!$F$3:$F$3 | G2: {="'"&_xlfn.TEXTAFTER(CELL("filename",G1),"]")&"'!$"&CHAR(COLUMN()+64)&"$3:$"&CHAR(COLUMN()+64)&"$"&MAX(3,IF(NOT(ISERROR($A3:$M3543)), ROW($A3:$M3543)*($A3:$M3543<>"")))} -> 'Proposed Labor'!$G$3:$G$3 | J2: {="'"&_xlfn.TEXTAFTER(CELL("filename",J1),"]")&"'!$"&CHAR(COLUMN()+64)&"$3:$"&CHAR(COLUMN()+64)&"$"&MAX(3,IF(NOT(ISERROR($A3:$M3528)), ROW($A3:$M3528)*($A3:$M3528<>"")))} -> 'Proposed Labor'!$J$3:$J$3 | K2: {="'"&_xlfn.TEXTAFTER(CELL("filename",K1),"]")&"'!$"&CHAR(COLUMN()+64)&"$3:$"&CHAR(COLUMN()+64)&"$"&MAX(3,IF(NOT(ISERROR($A3:$M3543)), ROW($A3:$M3543)*($A3:$M3543<>"")))} -> 'Proposed Labor'!$K$3:$K$3 | L2: {="'"&_xlfn.TEXTAFTER(CELL("filename",L1),"]")&"'!$"&CHAR(COLUMN()+64)&"$3:$"&CHAR(COLUMN()+64)&"$"&MAX(3,IF(NOT(ISERROR($A3:$M3543)), ROW($A3:$M3543)*($A3:$M3543<>"")))} -> 'Proposed Labor'!$L$3:$L$3 | M2: {="'"&_xlfn.TEXTAFTER(CELL("filename",M1),"]")&"'!$"&CHAR(COLUMN()+64)&"$3:$"&CHAR(COLUMN()+64)&"$"&MAX(3,IF(NOT(ISERROR($A3:$M3543)), ROW($A3:$M3543)*($A3:$M3543<>"")))} -> 'Proposed Labor'!$M$3:$M$3
B3: {=IF(A3="","",INDEX(CAGE,MATCH(A3,Company_Name,0)))} | C3: {=IF(A3="","",INDEX(Prime_Sub,MATCH(A3,Company_Name,0)))} | F3: {=IF(E3="","",INDEX(LCAT_ID,MATCH(E3,LCAT_Name,0)))} | J3: =IFERROR(_xlfn.XLOOKUP(I3,MSA_Title_List,MSA_Title_List!$A$2:$A$643,"",0),"")
B4: {=IF(A4="","",INDEX(CAGE,MATCH(A4,Company_Name,0)))} | C4: {=IF(A4="","",INDEX(Prime_Sub,MATCH(A4,Company_Name,0)))} | F4: {=IF(E4="","",INDEX(LCAT_ID,MATCH(E4,LCAT_Name,0)))} | J4: =IFERROR(_xlfn.XLOOKUP(I4,MSA_Title_List,MSA_Title_List!$A$2:$A$643,"",0),"")
B5: {=IF(A5="","",INDEX(CAGE,MATCH(A5,Company_Name,0)))} | C5: {=IF(A5="","",INDEX(Prime_Sub,MATCH(A5,Company_Name,0)))} | F5: {=IF(E5="","",INDEX(LCAT_ID,MATCH(E5,LCAT_Name,0)))} | J5: =IFERROR(_xlfn.XLOOKUP(I5,MSA_Title_List,MSA_Title_List!$A$2:$A$643,"",0),"")
B6: {=IF(A6="","",INDEX(CAGE,MATCH(A6,Company_Name,0)))} | C6: {=IF(A6="","",INDEX(Prime_Sub,MATCH(A6,Company_Name,0)))} | F6: {=IF(E6="","",INDEX(LCAT_ID,MATCH(E6,LCAT_Name,0)))} | J6: =IFERROR(_xlfn.XLOOKUP(I6,MSA_Title_List,MSA_Title_List!$A$2:$A$643,"",0),"")
B7: {=IF(A7="","",INDEX(CAGE,MATCH(A7,Company_Name,0)))} | C7: {=IF(A7="","",INDEX(Prime_Sub,MATCH(A7,Company_Name,0)))} | F7: {=IF(E7="","",INDEX(LCAT_ID,MATCH(E7,LCAT_Name,0)))} | J7: =IFERROR(_xlfn.XLOOKUP(I7,MSA_Title_List,MSA_Title_List!$A$2:$A$643,"",0),"")
B8: {=IF(A8="","",INDEX(CAGE,MATCH(A8,Company_Name,0)))} | C8: {=IF(A8="","",INDEX(Prime_Sub,MATCH(A8,Company_Name,0)))} | F8: {=IF(E8="","",INDEX(LCAT_ID,MATCH(E8,LCAT_Name,0)))} | J8: =IFERROR(_xlfn.XLOOKUP(I8,MSA_Title_List,MSA_Title_List!$A$2:$A$643,"",0),"")
B9: {=IF(A9="","",INDEX(CAGE,MATCH(A9,Company_Name,0)))} | C9: {=IF(A9="","",INDEX(Prime_Sub,MATCH(A9,Company_Name,0)))} | F9: {=IF(E9="","",INDEX(LCAT_ID,MATCH(E9,LCAT_Name,0)))} | J9: =IFERROR(_xlfn.XLOOKUP(I9,MSA_Title_List,MSA_Title_List!$A$2:$A$643,"",0),"")
B10: {=IF(A10="","",INDEX(CAGE,MATCH(A10,Company_Name,0)))} | C10: {=IF(A10="","",INDEX(Prime_Sub,MATCH(A10,Company_Name,0)))} | F10: {=IF(E10="","",INDEX(LCAT_ID,MATCH(E10,LCAT_Name,0)))} | J10: =IFERROR(_xlfn.XLOOKUP(I10,MSA_Title_List,MSA_Title_List!$A$2:$A$643,"",0),"")
B11: {=IF(A11="","",INDEX(CAGE,MATCH(A11,Company_Name,0)))} | C11: {=IF(A11="","",INDEX(Prime_Sub,MATCH(A11,Company_Name,0)))} | F11: {=IF(E11="","",INDEX(LCAT_ID,MATCH(E11,LCAT_Name,0)))} | J11: =IFERROR(_xlfn.XLOOKUP(I11,MSA_Title_List,MSA_Title_List!$A$2:$A$643,"",0),"")
B12: {=IF(A12="","",INDEX(CAGE,MATCH(A12,Company_Name,0)))} | C12: {=IF(A12="","",INDEX(Prime_Sub,MATCH(A12,Company_Name,0)))} | F12: {=IF(E12="","",INDEX(LCAT_ID,MATCH(E12,LCAT_Name,0)))} | J12: =IFERROR(_xlfn.XLOOKUP(I12,MSA_Title_List,MSA_Title_List!$A$2:$A$643,"",0),"")
B13: {=IF(A13="","",INDEX(CAGE,MATCH(A13,Company_Name,0)))} | C13: {=IF(A13="","",INDEX(Prime_Sub,MATCH(A13,Company_Name,0)))} | F13: {=IF(E13="","",INDEX(LCAT_ID,MATCH(E13,LCAT_Name,0)))} | J13: =IFERROR(_xlfn.XLOOKUP(I13,MSA_Title_List,MSA_Title_List!$A$2:$A$643,"",0),"")
B14: {=IF(A14="","",INDEX(CAGE,MATCH(A14,Company_Name,0)))} | C14: {=IF(A14="","",INDEX(Prime_Sub,MATCH(A14,Company_Name,0)))} | F14: {=IF(E14="","",INDEX(LCAT_ID,MATCH(E14,LCAT_Name,0)))} | J14: =IFERROR(_xlfn.XLOOKUP(I14,MSA_Title_List,MSA_Title_List!$A$2:$A$643,"",0),"")
... B22: {=IF(A22="","",INDEX(CAGE,MATCH(A22,Company_Name,0)))} | C22: {=IF(A22="","",INDEX(Prime_Sub,MATCH(A22,Company_Name,0)))} | F22: {=IF(E22="","",INDEX(LCAT_ID,MATCH(E22,LCAT_Name,0)))} | J22: =IFERROR(_xlfn.XLOOKUP(I22,MSA_Title_List,MSA_Title_List!$A$2:$A$643,"",0),"")
B23: {=IF(A23="","",INDEX(CAGE,MATCH(A23,Company_Name,0)))} | C23: {=IF(A23="","",INDEX(Prime_Sub,MATCH(A23,Company_Name,0)))} | F23: {=IF(E23="","",INDEX(LCAT_ID,MATCH(E23,LCAT_Name,0)))} | J23: =IFERROR(_xlfn.XLOOKUP(I23,MSA_Title_List,MSA_Title_List!$A$2:$A$643,"",0),"") | N23: Input required in columns K, L, and M within "active rows." Submission will be rejected if K, L, or M are left blank or if Vendor formulas are inputted. Similarly, if values are inputted into K, L, or M within an "active row," an LCAT entry must be inputted in column E.
B24: {=IF(A24="","",INDEX(CAGE,MATCH(A24,Company_Name,0)))} | C24: {=IF(A24="","",INDEX(Prime_Sub,MATCH(A24,Company_Name,0)))} | F24: {=IF(E24="","",INDEX(LCAT_ID,MATCH(E24,LCAT_Name,0)))} | J24: =IFERROR(_xlfn.XLOOKUP(I24,MSA_Title_List,MSA_Title_List!$A$2:$A$643,"",0),"")
B25: {=IF(A25="","",INDEX(CAGE,MATCH(A25,Company_Name,0)))} | C25: {=IF(A25="","",INDEX(Prime_Sub,MATCH(A25,Company_Name,0)))} | F25: {=IF(E25="","",INDEX(LCAT_ID,MATCH(E25,LCAT_Name,0)))} | J25: =IFERROR(_xlfn.XLOOKUP(I25,MSA_Title_List,MSA_Title_List!$A$2:$A$643,"",0),"")
B26: {=IF(A26="","",INDEX(CAGE,MATCH(A26,Company_Name,0)))} | C26: {=IF(A26="","",INDEX(Prime_Sub,MATCH(A26,Company_Name,0)))} | F26: {=IF(E26="","",INDEX(LCAT_ID,MATCH(E26,LCAT_Name,0)))} | J26: =IFERROR(_xlfn.XLOOKUP(I26,MSA_Title_List,MSA_Title_List!$A$2:$A$643,"",0),"")
B27: {=IF(A27="","",INDEX(CAGE,MATCH(A27,Company_Name,0)))} | C27: {=IF(A27="","",INDEX(Prime_Sub,MATCH(A27,Company_Name,0)))} | F27: {=IF(E27="","",INDEX(LCAT_ID,MATCH(E27,LCAT_Name,0)))} | J27: =IFERROR(_xlfn.XLOOKUP(I27,MSA_Title_List,MSA_Title_List!$A$2:$A$643,"",0),"")
B28: {=IF(A28="","",INDEX(CAGE,MATCH(A28,Company_Name,0)))} | C28: {=IF(A28="","",INDEX(Prime_Sub,MATCH(A28,Company_Name,0)))} | F28: {=IF(E28="","",INDEX(LCAT_ID,MATCH(E28,LCAT_Name,0)))} | J28: =IFERROR(_xlfn.XLOOKUP(I28,MSA_Title_List,MSA_Title_List!$A$2:$A$643,"",0),"")
B29: {=IF(A29="","",INDEX(CAGE,MATCH(A29,Company_Name,0)))} | C29: {=IF(A29="","",INDEX(Prime_Sub,MATCH(A29,Company_Name,0)))} | F29: {=IF(E29="","",INDEX(LCAT_ID,MATCH(E29,LCAT_Name,0)))} | J29: =IFERROR(_xlfn.XLOOKUP(I29,MSA_Title_List,MSA_Title_List!$A$2:$A$643,"",0),"")
B30: {=IF(A30="","",INDEX(CAGE,MATCH(A30,Company_Name,0)))} | C30: {=IF(A30="","",INDEX(Prime_Sub,MATCH(A30,Company_Name,0)))} | F30: {=IF(E30="","",INDEX(LCAT_ID,MATCH(E30,LCAT_Name,0)))} | J30: =IFERROR(_xlfn.XLOOKUP(I30,MSA_Title_List,MSA_Title_List!$A$2:$A$643,"",0),"")
B31: {=IF(A31="","",INDEX(CAGE,MATCH(A31,Company_Name,0)))} | C31: {=IF(A31="","",INDEX(Prime_Sub,MATCH(A31,Company_Name,0)))} | F31: {=IF(E31="","",INDEX(LCAT_ID,MATCH(E31,LCAT_Name,0)))} | J31: =IFERROR(_xlfn.XLOOKUP(I31,MSA_Title_List,MSA_Title_List!$A$2:$A$643,"",0),"")
B32: {=IF(A32="","",INDEX(CAGE,MATCH(A32,Company_Name,0)))} | C32: {=IF(A32="","",INDEX(Prime_Sub,MATCH(A32,Company_Name,0)))} | F32: {=IF(E32="","",INDEX(LCAT_ID,MATCH(E32,LCAT_Name,0)))} | J32: =IFERROR(_xlfn.XLOOKUP(I32,MSA_Title_List,MSA_Title_List!$A$2:$A$643,"",0),"")
B33: {=IF(A33="","",INDEX(CAGE,MATCH(A33,Company_Name,0)))} | C33: {=IF(A33="","",INDEX(Prime_Sub,MATCH(A33,Company_Name,0)))} | F33: {=IF(E33="","",INDEX(LCAT_ID,MATCH(E33,LCAT_Name,0)))} | J33: =IFERROR(_xlfn.XLOOKUP(I33,MSA_Title_List,MSA_Title_List!$A$2:$A$643,"",0),"")
B34: {=IF(A34="","",INDEX(CAGE,MATCH(A34,Company_Name,0)))} | C34: {=IF(A34="","",INDEX(Prime_Sub,MATCH(A34,Company_Name,0)))} | F34: {=IF(E34="","",INDEX(LCAT_ID,MATCH(E34,LCAT_Name,0)))} | J34: =IFERROR(_xlfn.XLOOKUP(I34,MSA_Title_List,MSA_Title_List!$A$2:$A$643,"",0),"")
B35: {=IF(A35="","",INDEX(CAGE,MATCH(A35,Company_Name,0)))} | C35: {=IF(A35="","",INDEX(Prime_Sub,MATCH(A35,Company_Name,0)))} | F35: {=IF(E35="","",INDEX(LCAT_ID,MATCH(E35,LCAT_Name,0)))} | J35: =IFERROR(_xlfn.XLOOKUP(I35,MSA_Title_List,MSA_Title_List!$A$2:$A$643,"",0),"")
... B3515: {=IF(A3515="","",INDEX(CAGE,MATCH(A3515,Company_Name,0)))} | C3515: {=IF(A3515="","",INDEX(Prime_Sub,MATCH(A3515,Company_Name,0)))} | F3515: {=IF(E3515="","",INDEX(LCAT_ID,MATCH(E3515,LCAT_Name,0)))} | J3515: =IFERROR(_xlfn.XLOOKUP(I3515,MSA_Title_List,MSA_Title_List!$A$2:$A$643,"",0),"")

Sheet Invoiced Labor
A1: Invoice_Company | B1: Invoice_ CAGE | C1: Invoice_ Prime_Sub | D1: Invoice_ CLIN_SLIN | E1: LCAT Type (Optional) | F1: Invoice_Labor_Category | G1: Invoice_ LCAT_ID | H1: Invoice_ Site | I1: Employee State | J1: Employee MSA | K1: Invoice_ MSA_Code | L1: Invoice_Unique_ Employee_ID | M1: Invoice_ Hours | N1: Invoice_ Direct_Cost | O1: Invoice_ Total_Cost
A2: {="'"&_xlfn.TEXTAFTER(CELL("filename",A1),"]")&"'!$"&CHAR(COLUMN()+64)&"$3:$"&CHAR(COLUMN()+64)&"$"&MAX(3,IF(NOT(ISERROR($A3:$O4033)), ROW($A3:$O4033)*($A3:$O4033<>"")))} -> 'Invoiced Labor'!$A$3:$A$3 | B2: {="'"&_xlfn.TEXTAFTER(CELL("filename",B1),"]")&"'!$"&CHAR(COLUMN()+64)&"$3:$"&CHAR(COLUMN()+64)&"$"&MAX(3,IF(NOT(ISERROR($A3:$O4033)), ROW($A3:$O4033)*($A3:$O4033<>"")))} -> 'Invoiced Labor'!$B$3:$B$3 | C2: {="'"&_xlfn.TEXTAFTER(CELL("filename",C1),"]")&"'!$"&CHAR(COLUMN()+64)&"$3:$"&CHAR(COLUMN()+64)&"$"&MAX(3,IF(NOT(ISERROR($A3:$O4033)), ROW($A3:$O4033)*($A3:$O4033<>"")))} -> 'Invoiced Labor'!$C$3:$C$3 | D2: {="'"&_xlfn.TEXTAFTER(CELL("filename",D1),"]")&"'!$"&CHAR(COLUMN()+64)&"$3:$"&CHAR(COLUMN()+64)&"$"&MAX(3,IF(NOT(ISERROR($A3:$O4033)), ROW($A3:$O4033)*($A3:$O4033<>"")))} -> 'Invoiced Labor'!$D$3:$D$3 | F2: {="'"&_xlfn.TEXTAFTER(CELL("filename",F1),"]")&"'!$"&CHAR(COLUMN()+64)&"$3:$"&CHAR(COLUMN()+64)&"$"&MAX(3,IF(NOT(ISERROR($A3:$O4033)), ROW($A3:$O4033)*($A3:$O4033<>"")))} -> 'Invoiced Labor'!$F$3:$F$3 | G2: {="'"&_xlfn.TEXTAFTER(CELL("filename",G1),"]")&"'!$"&CHAR(COLUMN()+64)&"$3:$"&CHAR(COLUMN()+64)&"$"&MAX(3,IF(NOT(ISERROR($A3:$O4033)), ROW($A3:$O4033)*($A3:$O4033<>"")))} -> 'Invoiced Labor'!$G$3:$G$3 | H2: {="'"&_xlfn.TEXTAFTER(CELL("filename",H1),"]")&"'!$"&CHAR(COLUMN()+64)&"$3:$"&CHAR(COLUMN()+64)&"$"&MAX(3,IF(NOT(ISERROR($A3:$O4033)), ROW($A3:$O4033)*($A3:$O4033<>"")))} -> 'Invoiced Labor'!$H$3:$H$3 | K2: {="'"&_xlfn.TEXTAFTER(CELL("filename",K1),"]")&"'!$"&CHAR(COLUMN()+64)&"$3:$"&CHAR(COLUMN()+64)&"$"&MAX(3,IF(NOT(ISERROR($A3:$O4033)), ROW($A3:$O4033)*($A3:$O4033<>"")))} -> 'Invoiced Labor'!$K$3:$K$3 | L2: {="'"&_xlfn.TEXTAFTER(CELL("filename",L1),"]")&"'!$"&CHAR(COLUMN()+64)&"$3:$"&CHAR(COLUMN()+64)&"$"&MAX(3,IF(NOT(ISERROR($A3:$O4033)), ROW($A3:$O4033)*($A3:$O4033<>"")))} -> 'Invoiced Labor'!$L$3:$L$3 | M2: {="'"&_xlfn.TEXTAFTER(CELL("filename",M1),"]")&"'!$"&CHAR(COLUMN()+64)&"$3:$"&CHAR(COLUMN()+64)&"$"&MAX(3,IF(NOT(ISERROR($A3:$O4033)), ROW($A3:$O4033)*($A3:$O4033<>"")))} -> 'Invoiced Labor'!$M$3:$M$3 | N2: {="'"&_xlfn.TEXTAFTER(CELL("filename",N1),"]")&"'!$"&CHAR(COLUMN()+64)&"$3:$"&CHAR(COLUMN()+64)&"$"&MAX(3,IF(NOT(ISERROR($A3:$O4033)), ROW($A3:$O4033)*($A3:$O4033<>"")))} -> 'Invoiced Labor'!$N$3:$N$3 | O2: {="'"&_xlfn.TEXTAFTER(CELL("filename",O1),"]")&"'!$"&CHAR(COLUMN()+64)&"$3:$"&CHAR(COLUMN()+64)&"$"&MAX(3,IF(NOT(ISERROR($A3:$O4033)), ROW($A3:$O4033)*($A3:$O4033<>"")))} -> 'Invoiced Labor'!$O$3:$O$3
B3: {=IF(A3="","",INDEX(CAGE,MATCH(A3,Company_Name,0)))} | C3: {=IF(A3="","",INDEX(Prime_Sub,MATCH(A3,Company_Name,0)))} | G3: {=IF(F3="","",INDEX(LCAT_ID,MATCH(F3,LCAT_Name,0)))} | K3: =IFERROR(_xlfn.XLOOKUP($J3,MSA_Title_List,MSA_Title_List!$A$2:$A$643,"",0),"")
B4: {=IF(A4="","",INDEX(CAGE,MATCH(A4,Company_Name,0)))} | C4: {=IF(A4="","",INDEX(Prime_Sub,MATCH(A4,Company_Name,0)))} | G4: {=IF(F4="","",INDEX(LCAT_ID,MATCH(F4,LCAT_Name,0)))} | K4: =IFERROR(_xlfn.XLOOKUP($J4,MSA_Title_List,MSA_Title_List!$A$2:$A$643,"",0),"")
B5: {=IF(A5="","",INDEX(CAGE,MATCH(A5,Company_Name,0)))} | C5: {=IF(A5="","",INDEX(Prime_Sub,MATCH(A5,Company_Name,0)))} | G5: {=IF(F5="","",INDEX(LCAT_ID,MATCH(F5,LCAT_Name,0)))} | K5: =IFERROR(_xlfn.XLOOKUP($J5,MSA_Title_List,MSA_Title_List!$A$2:$A$643,"",0),"")
B6: {=IF(A6="","",INDEX(CAGE,MATCH(A6,Company_Name,0)))} | C6: {=IF(A6="","",INDEX(Prime_Sub,MATCH(A6,Company_Name,0)))} | G6: {=IF(F6="","",INDEX(LCAT_ID,MATCH(F6,LCAT_Name,0)))} | K6: =IFERROR(_xlfn.XLOOKUP($J6,MSA_Title_List,MSA_Title_List!$A$2:$A$643,"",0),"")
B7: {=IF(A7="","",INDEX(CAGE,MATCH(A7,Company_Name,0)))} | C7: {=IF(A7="","",INDEX(Prime_Sub,MATCH(A7,Company_Name,0)))} | G7: {=IF(F7="","",INDEX(LCAT_ID,MATCH(F7,LCAT_Name,0)))} | K7: =IFERROR(_xlfn.XLOOKUP($J7,MSA_Title_List,MSA_Title_List!$A$2:$A$643,"",0),"")
B8: {=IF(A8="","",INDEX(CAGE,MATCH(A8,Company_Name,0)))} | C8: {=IF(A8="","",INDEX(Prime_Sub,MATCH(A8,Company_Name,0)))} | G8: {=IF(F8="","",INDEX(LCAT_ID,MATCH(F8,LCAT_Name,0)))} | K8: =IFERROR(_xlfn.XLOOKUP($J8,MSA_Title_List,MSA_Title_List!$A$2:$A$643,"",0),"")
B9: {=IF(A9="","",INDEX(CAGE,MATCH(A9,Company_Name,0)))} | C9: {=IF(A9="","",INDEX(Prime_Sub,MATCH(A9,Company_Name,0)))} | G9: {=IF(F9="","",INDEX(LCAT_ID,MATCH(F9,LCAT_Name,0)))} | K9: =IFERROR(_xlfn.XLOOKUP($J9,MSA_Title_List,MSA_Title_List!$A$2:$A$643,"",0),"")
B10: {=IF(A10="","",INDEX(CAGE,MATCH(A10,Company_Name,0)))} | C10: {=IF(A10="","",INDEX(Prime_Sub,MATCH(A10,Company_Name,0)))} | G10: {=IF(F10="","",INDEX(LCAT_ID,MATCH(F10,LCAT_Name,0)))} | K10: =IFERROR(_xlfn.XLOOKUP($J10,MSA_Title_List,MSA_Title_List!$A$2:$A$643,"",0),"")
B11: {=IF(A11="","",INDEX(CAGE,MATCH(A11,Company_Name,0)))} | C11: {=IF(A11="","",INDEX(Prime_Sub,MATCH(A11,Company_Name,0)))} | G11: {=IF(F11="","",INDEX(LCAT_ID,MATCH(F11,LCAT_Name,0)))} | K11: =IFERROR(_xlfn.XLOOKUP($J11,MSA_Title_List,MSA_Title_List!$A$2:$A$643,"",0),"")
B12: {=IF(A12="","",INDEX(CAGE,MATCH(A12,Company_Name,0)))} | C12: {=IF(A12="","",INDEX(Prime_Sub,MATCH(A12,Company_Name,0)))} | G12: {=IF(F12="","",INDEX(LCAT_ID,MATCH(F12,LCAT_Name,0)))} | K12: =IFERROR(_xlfn.XLOOKUP($J12,MSA_Title_List,MSA_Title_List!$A$2:$A$643,"",0),"")
B13: {=IF(A13="","",INDEX(CAGE,MATCH(A13,Company_Name,0)))} | C13: {=IF(A13="","",INDEX(Prime_Sub,MATCH(A13,Company_Name,0)))} | G13: {=IF(F13="","",INDEX(LCAT_ID,MATCH(F13,LCAT_Name,0)))} | K13: =IFERROR(_xlfn.XLOOKUP($J13,MSA_Title_List,MSA_Title_List!$A$2:$A$643,"",0),"")
B14: {=IF(A14="","",INDEX(CAGE,MATCH(A14,Company_Name,0)))} | C14: {=IF(A14="","",INDEX(Prime_Sub,MATCH(A14,Company_Name,0)))} | G14: {=IF(F14="","",INDEX(LCAT_ID,MATCH(F14,LCAT_Name,0)))} | K14: =IFERROR(_xlfn.XLOOKUP($J14,MSA_Title_List,MSA_Title_List!$A$2:$A$643,"",0),"")
... B30: {=IF(A30="","",INDEX(CAGE,MATCH(A30,Company_Name,0)))} | C30: {=IF(A30="","",INDEX(Prime_Sub,MATCH(A30,Company_Name,0)))} | G30: {=IF(F30="","",INDEX(LCAT_ID,MATCH(F30,LCAT_Name,0)))} | K30: =IFERROR(_xlfn.XLOOKUP($J30,MSA_Title_List,MSA_Title_List!$A$2:$A$643,"",0),"")
B31: {=IF(A31="","",INDEX(CAGE,MATCH(A31,Company_Name,0)))} | C31: {=IF(A31="","",INDEX(Prime_Sub,MATCH(A31,Company_Name,0)))} | G31: {=IF(F31="","",INDEX(LCAT_ID,MATCH(F31,LCAT_Name,0)))} | K31: =IFERROR(_xlfn.XLOOKUP($J31,MSA_Title_List,MSA_Title_List!$A$2:$A$643,"",0),"") | P31: Input required in columns M, N, and O within "active rows." Submission will be rejected if M, N, or O are left blank or if Vendor formulas are inputted. Similarly, if values are inputted into M, N, or O within an "active row," an LCAT entry must be inputted in column F.
B32: {=IF(A32="","",INDEX(CAGE,MATCH(A32,Company_Name,0)))} | C32: {=IF(A32="","",INDEX(Prime_Sub,MATCH(A32,Company_Name,0)))} | G32: {=IF(F32="","",INDEX(LCAT_ID,MATCH(F32,LCAT_Name,0)))} | K32: =IFERROR(_xlfn.XLOOKUP($J32,MSA_Title_List,MSA_Title_List!$A$2:$A$643,"",0),"")
B33: {=IF(A33="","",INDEX(CAGE,MATCH(A33,Company_Name,0)))} | C33: {=IF(A33="","",INDEX(Prime_Sub,MATCH(A33,Company_Name,0)))} | G33: {=IF(F33="","",INDEX(LCAT_ID,MATCH(F33,LCAT_Name,0)))} | K33: =IFERROR(_xlfn.XLOOKUP($J33,MSA_Title_List,MSA_Title_List!$A$2:$A$643,"",0),"")
B34: {=IF(A34="","",INDEX(CAGE,MATCH(A34,Company_Name,0)))} | C34: {=IF(A34="","",INDEX(Prime_Sub,MATCH(A34,Company_Name,0)))} | G34: {=IF(F34="","",INDEX(LCAT_ID,MATCH(F34,LCAT_Name,0)))} | K34: =IFERROR(_xlfn.XLOOKUP($J34,MSA_Title_List,MSA_Title_List!$A$2:$A$643,"",0),"")
B35: {=IF(A35="","",INDEX(CAGE,MATCH(A35,Company_Name,0)))} | C35: {=IF(A35="","",INDEX(Prime_Sub,MATCH(A35,Company_Name,0)))} | G35: {=IF(F35="","",INDEX(LCAT_ID,MATCH(F35,LCAT_Name,0)))} | K35: =IFERROR(_xlfn.XLOOKUP($J35,MSA_Title_List,MSA_Title_List!$A$2:$A$643,"",0),"")
B36: {=IF(A36="","",INDEX(CAGE,MATCH(A36,Company_Name,0)))} | C36: {=IF(A36="","",INDEX(Prime_Sub,MATCH(A36,Company_Name,0)))} | G36: {=IF(F36="","",INDEX(LCAT_ID,MATCH(F36,LCAT_Name,0)))} | K36: =IFERROR(_xlfn.XLOOKUP($J36,MSA_Title_List,MSA_Title_List!$A$2:$A$643,"",0),"")
B37: {=IF(A37="","",INDEX(CAGE,MATCH(A37,Company_Name,0)))} | C37: {=IF(A37="","",INDEX(Prime_Sub,MATCH(A37,Company_Name,0)))} | G37: {=IF(F37="","",INDEX(LCAT_ID,MATCH(F37,LCAT_Name,0)))} | K37: =IFERROR(_xlfn.XLOOKUP($J37,MSA_Title_List,MSA_Title_List!$A$2:$A$643,"",0),"")
B38: {=IF(A38="","",INDEX(CAGE,MATCH(A38,Company_Name,0)))} | C38: {=IF(A38="","",INDEX(Prime_Sub,MATCH(A38,Company_Name,0)))} | G38: {=IF(F38="","",INDEX(LCAT_ID,MATCH(F38,LCAT_Name,0)))} | K38: =IFERROR(_xlfn.XLOOKUP($J38,MSA_Title_List,MSA_Title_List!$A$2:$A$643,"",0),"")
B39: {=IF(A39="","",INDEX(CAGE,MATCH(A39,Company_Name,0)))} | C39: {=IF(A39="","",INDEX(Prime_Sub,MATCH(A39,Company_Name,0)))} | G39: {=IF(F39="","",INDEX(LCAT_ID,MATCH(F39,LCAT_Name,0)))} | K39: =IFERROR(_xlfn.XLOOKUP($J39,MSA_Title_List,MSA_Title_List!$A$2:$A$643,"",0),"")
B40: {=IF(A40="","",INDEX(CAGE,MATCH(A40,Company_Name,0)))} | C40: {=IF(A40="","",INDEX(Prime_Sub,MATCH(A40,Company_Name,0)))} | G40: {=IF(F40="","",INDEX(LCAT_ID,MATCH(F40,LCAT_Name,0)))} | K40: =IFERROR(_xlfn.XLOOKUP($J40,MSA_Title_List,MSA_Title_List!$A$2:$A$643,"",0),"")
B41: {=IF(A41="","",INDEX(CAGE,MATCH(A41,Company_Name,0)))} | C41: {=IF(A41="","",INDEX(Prime_Sub,MATCH(A41,Company_Name,0)))} | G41: {=IF(F41="","",INDEX(LCAT_ID,MATCH(F41,LCAT_Name,0)))} | K41: =IFERROR(_xlfn.XLOOKUP($J41,MSA_Title_List,MSA_Title_List!$A$2:$A$643,"",0),"")
B42: {=IF(A42="","",INDEX(CAGE,MATCH(A42,Company_Name,0)))} | C42: {=IF(A42="","",INDEX(Prime_Sub,MATCH(A42,Company_Name,0)))} | G42: {=IF(F42="","",INDEX(LCAT_ID,MATCH(F42,LCAT_Name,0)))} | K42: =IFERROR(_xlfn.XLOOKUP($J42,MSA_Title_List,MSA_Title_List!$A$2:$A$643,"",0),"")
B43: {=IF(A43="","",INDEX(CAGE,MATCH(A43,Company_Name,0)))} | C43: {=IF(A43="","",INDEX(Prime_Sub,MATCH(A43,Company_Name,0)))} | G43: {=IF(F43="","",INDEX(LCAT_ID,MATCH(F43,LCAT_Name,0)))} | K43: =IFERROR(_xlfn.XLOOKUP($J43,MSA_Title_List,MSA_Title_List!$A$2:$A$643,"",0),"")
... B4000: {=IF(A4000="","",INDEX(CAGE,MATCH(A4000,Company_Name,0)))} | C4000: {=IF(A4000="","",INDEX(Prime_Sub,MATCH(A4000,Company_Name,0)))} | G4000: {=IF(F4000="","",INDEX(LCAT_ID,MATCH(F4000,LCAT_Name,0)))} | K4000: =IFERROR(_xlfn.XLOOKUP($J4000,MSA_Title_List,MSA_Title_List!$A$2:$A$643,"",0),"")
B4001: {=IF(A4001="","",INDEX(CAGE,MATCH(A4001,Company_Name,0)))} | C4001: {=IF(A4001="","",INDEX(Prime_Sub,MATCH(A4001,Company_Name,0)))} | G4001: {=IF(F4001="","",INDEX(LCAT_ID,MATCH(F4001,LCAT_Name,0)))}
B4002: {=IF(A4002="","",INDEX(CAGE,MATCH(A4002,Company_Name,0)))} | C4002: {=IF(A4002="","",INDEX(Prime_Sub,MATCH(A4002,Company_Name,0)))} | G4002: {=IF(F4002="","",INDEX(LCAT_ID,MATCH(F4002,LCAT_Name,0)))}
B4003: {=IF(A4003="","",INDEX(CAGE,MATCH(A4003,Company_Name,0)))} | C4003: {=IF(A4003="","",INDEX(Prime_Sub,MATCH(A4003,Company_Name,0)))} | G4003: {=IF(F4003="","",INDEX(LCAT_ID,MATCH(F4003,LCAT_Name,0)))}
B4004: {=IF(A4004="","",INDEX(CAGE,MATCH(A4004,Company_Name,0)))} | C4004: {=IF(A4004="","",INDEX(Prime_Sub,MATCH(A4004,Company_Name,0)))} | G4004: {=IF(F4004="","",INDEX(LCAT_ID,MATCH(F4004,LCAT_Name,0)))}
B4005: {=IF(A4005="","",INDEX(CAGE,MATCH(A4005,Company_Name,0)))} | C4005: {=IF(A4005="","",INDEX(Prime_Sub,MATCH(A4005,Company_Name,0)))} | G4005: {=IF(F4005="","",INDEX(LCAT_ID,MATCH(F4005,LCAT_Name,0)))}
B4006: {=IF(A4006="","",INDEX(CAGE,MATCH(A4006,Company_Name,0)))} | C4006: {=IF(A4006="","",INDEX(Prime_Sub,MATCH(A4006,Company_Name,0)))} | G4006: {=IF(F4006="","",INDEX(LCAT_ID,MATCH(F4006,LCAT_Name,0)))}

Sheet Invoice Summary
A1: Invoice Details | B1: Contract_Number | C1: Order_Number | D1: Invoice_Number | E1: Invoice_Date | F1: First_Date_ Invoiced_Cost_ Incurred | G1: Last_Date_ Invoiced_Cost_ Incurred | H1: Period_of_ Performance | I1: Major_Subordinate_ Command | J1: Major_Subordinate_ Directorate | K1: KO_KS Name
H2: 1 | K2: =IF(K3="","",K3) -> MCBRIDE, SHANNON M
B3: *Format: XXXXXX-XX-X-XXXX | C3: *Format: XXXXXX-XX-X-XXXX | D3: e.g., R2xx | E3: xx/xx/xxxx | F3: xx/xx/xxxx | G3: xx/xx/xxxx | I3: e.g., PEO ABC | J3: e.g., PM XYZ | K3: MCBRIDE, SHANNON M
B5: Hours | F5: Total Cost per Hour | G5: Total Cost
A6: Labor, Prime Direct | G6: {=SUMIF(Invoice_Prime_Sub,"Prime",Invoice_Direct_Cost)} -> 0
A7: Prime Indirect & FCCOM on Prime Direct Labor | G7: =G8-G6 -> 0 | H7: =IFERROR(G7/G6,"")
A8: Labor, Prime Fully Burdened Cost | B8: {=SUMIF(Invoice_Prime_Sub,"Prime",Invoice_Hours)} -> 0 | F8: =IFERROR(G8/B8,"") | G8: {=SUMIF(Invoice_Prime_Sub,"Prime",Invoice_Total_Cost)} -> 0
A10: Direct Subcontracts Cost (labor costs) | G10: {=SUMIF(Invoice_Prime_Sub,"Sub",Invoice_Direct_Cost)} -> 0
A11: Prime Indirect & FCCOM on Subcontract Costs | G11: =G12-G10 -> 0 | H11: =IFERROR(G11/G10,"")
A12: Subtotal, Subcontracts | B12: {=SUMIF(Invoice_Prime_Sub,"Sub",Invoice_Hours)} -> 0 | F12: =IFERROR(G12/B12,"") | G12: {=SUMIF(Invoice_Prime_Sub,"Sub",Invoice_Total_Cost)} -> 0
A14: Subtotal, Total Labor Cost | B14: =SUM(B8,B12) -> 0 | F14: =IFERROR(G14/B14,"") | G14: =SUM(G8,G12) -> 0
A16: Direct Subcontracts (non-labor costs) | G16: <Ref>
A17: M&S Handling | F17: <Rate> | G17: <Formula>
A18: Subtotal, Materials | G18: 0
A20: Direct Materials | G20: <Ref>
A21: M&S Handling | F21: <Rate> | G21: <Formula>
A22: Subtotal, Materials | G22: 0
A24: Travel | G24: <Ref>
A26: ODCs | G26: <Ref>
A28: G&A (Non-Labor Costs Only) | F28: <Rate> | G28: <Formula> | H28: ← Do not apply G&A twice on direct labor: Total direct labor costs should already include G&A.
A30: Subtotal, Non-Labor Costs | G30: =SUM(G18,G22,G24,G26,G28) -> 0
A32: Total Invoiced Cost | G32: =SUM(G14,G30) -> 0
A33: Invoiced Fee | G33: 0 | H33: ← Note: Fixed fee awarded is a dollar amount, not a percentage: Incurring more cost will not result in more fee.
A34: Total Invoiced | G34: =G33+G32 -> 0 | H34: (30194+540) *.08 = 2459 | I34: 10800*.03 = 324

Sheet Potential Recovery Amount
G1: Proposed Direct Labor | J1: Invoiced Direct Labor | M1: Delta between Invoiced and Proposed | P1: Potential Recovery > 5.0% | Q1: Overbilled between > 0% and < 5.0% | R1: Not Proposed | S1: Underbilled < 0% | T1: Accurately Billed (Absolute) | U1: Count of LCATs Invoiced | V1: Potential Recovery Amount > 5% | X1: =SUM($X$3:$X$5000) -> 0 | Z1: Contractor Notes | AE1: =SUM($AE$3:$AE$5000) -> 0
B2: Helper Column (Hidden) | C2: Company | D2: LCAT | E2: MSA ID# | F2: MSA | G2: Hours | H2: Direct Labor Cost per Hour | I2: Total Direct Labor Cost | J2: Hours | K2: Direct Labor Cost per Hour | L2: Total Direct Labor Cost | M2: Delta $ | N2: Delta % | O2: Extended $ | P2: =SUM(P3:P5000) -> 0 | Q2: =SUM(Q3:Q5000) -> 0 | R2: =SUM(R3:R5000) -> 0 | S2: =SUM(S3:S5000) -> 0 | T2: =SUM(T3:T5000) -> 0 | U2: =COUNTA(D3:D5000) -> 1 | V2: Invoiced Hours | W2: Overbilled per Hour > 5.0% | X2: Overbilled > 5.0% extended | AB2: Company_PRA | AC2: LCAT_PRA | AD2: MSA_PRA | AE2: Potential_Recovery_Amount
B3: {=_xlfn._xlws.SORT(_xlfn.UNIQUE(Invoice_Company&"^"&Invoice_Labor_Category&"^"&Invoice_MSA_Code),,)} -> ^^ | C3: {=IFERROR(_xlfn.TEXTSPLIT(B3,"^"),"")} | F3: {=IFERROR(INDEX(MSA_Title,MATCH(E3,MSA_Code,0)),"")} | G3: {=SUMIFS(Proposed_Hours,Proposed_Labor_Category,$D3,Proposed_Company,$C3,Proposed_MSA_Code,$E3)} -> 0 | H3: =IFERROR(I3/G3,"") | I3: {=IFERROR(IF(SUMIFS(Proposed_Direct_Cost,Proposed_Labor_Category,$D3,Proposed_Company,$C3,Proposed_MSA_Code,$E3)=0,"Not Proposed",SUMIFS(Proposed_Direct_Cost,Proposed_Labor_Category,$D3,Proposed_Company,$C3,Proposed_MSA_Code,$E3)),"")} -> Not Proposed | J3: {=SUMIFS(Invoice_Hours,Invoice_Labor_Category,$D3,Invoice_Company,$C3,Invoice_MSA_Code,$E3)} -> 0 | K3: =IFERROR(L3/J3,"") | L3: {=IFERROR(SUMIFS(Invoice_Direct_Cost,Invoice_Labor_Category,$D3,Invoice_Company,$C3,Invoice_MSA_Code,$E3),"")} -> 0 | M3: =IFERROR(K3-H3,"") | N3: =IFERROR(M3/H3,"") | O3: =IFERROR(M3*J3,"") | P3: =IFERROR(IF(N3>5%,O3*((N3-5%)/N3),""),"") | Q3: =IFERROR(IF(N3>0,O3*(MIN(N3,5%)/N3),""),"") | R3: =IFERROR(IF(AND(K3>0,H3="",L3<>0),L3,""),"") | S3: =IFERROR(IF(N3<0,-O3,""),"") | T3: =IFERROR(IF(AND(K3<>"",H3<>"",K3=H3),L3,""),"") | V3: {=SUMIFS(Invoice_Hours,Invoice_Labor_Category,$D3,Invoice_Company,$C3,Invoice_MSA_Code,$E3)} -> 0 | W3: =IFERROR(IF(AND(H3<>0,K3>H3,(K3-H3)/H3>0.05),(K3-H3),""),"") | X3: =IFERROR(IF(H3="",K3*J3,W3*V3),"") | AB3: =IF(C3=0,"",C3) | AC3: =IF(D3=0,"",D3) | AD3: =IF(F3=0,"",F3) | AE3: =X3
C4: {=IFERROR(_xlfn.TEXTSPLIT(B4,"^"),"")} | F4: {=IFERROR(INDEX(MSA_Title,MATCH(E4,MSA_Code,0)),"")} | G4: {=SUMIFS(Proposed_Hours,Proposed_Labor_Category,$D4,Proposed_Company,$C4,Proposed_MSA_Code,$E4)} -> 0 | H4: =IFERROR(I4/G4,"") | I4: {=IFERROR(IF(SUMIFS(Proposed_Direct_Cost,Proposed_Labor_Category,$D4,Proposed_Company,$C4,Proposed_MSA_Code,$E4)=0,"Not Proposed",SUMIFS(Proposed_Direct_Cost,Proposed_Labor_Category,$D4,Proposed_Company,$C4,Proposed_MSA_Code,$E4)),"")} -> Not Proposed | J4: {=SUMIFS(Invoice_Hours,Invoice_Labor_Category,$D4,Invoice_Company,$C4,Invoice_MSA_Code,$E4)} -> 0 | K4: =IFERROR(L4/J4,"") | L4: {=IFERROR(SUMIFS(Invoice_Direct_Cost,Invoice_Labor_Category,$D4,Invoice_Company,$C4,Invoice_MSA_Code,$E4),"")} -> 0 | M4: =IFERROR(K4-H4,"") | N4: =IFERROR(M4/H4,"") | O4: =IFERROR(M4*J4,"") | P4: =IFERROR(IF(N4>5%,O4*((N4-5%)/N4),""),"") | Q4: =IFERROR(IF(N4>0,O4*(MIN(N4,5%)/N4),""),"") | R4: =IFERROR(IF(AND(K4>0,H4="",L4<>0),L4,""),"") | S4: =IFERROR(IF(N4<0,-O4,""),"") | T4: =IFERROR(IF(AND(K4<>"",H4<>"",K4=H4),L4,""),"") | V4: {=SUMIFS(Invoice_Hours,Invoice_Labor_Category,$D4,Invoice_Company,$C4,Invoice_MSA_Code,$E4)} -> 0 | W4: =IFERROR(IF(AND(H4<>0,K4>H4,(K4-H4)/H4>0.05),(K4-H4),""),"") | X4: =IFERROR(IF(H4="",K4*J4,W4*V4),"") | AB4: =IF(C4=0,"",C4) | AC4: =IF(D4=0,"",D4) | AD4: =IF(F4=0,"",F4) | AE4: =X4
C5: {=IFERROR(_xlfn.TEXTSPLIT(B5,"^"),"")} | F5: {=IFERROR(INDEX(MSA_Title,MATCH(E5,MSA_Code,0)),"")} | G5: {=SUMIFS(Proposed_Hours,Proposed_Labor_Category,$D5,Proposed_Company,$C5,Proposed_MSA_Code,$E5)} -> 0 | H5: =IFERROR(I5/G5,"") | I5: {=IFERROR(IF(SUMIFS(Proposed_Direct_Cost,Proposed_Labor_Category,$D5,Proposed_Company,$C5,Proposed_MSA_Code,$E5)=0,"Not Proposed",SUMIFS(Proposed_Direct_Cost,Proposed_Labor_Category,$D5,Proposed_Company,$C5,Proposed_MSA_Code,$E5)),"")} -> Not Proposed | J5: {=SUMIFS(Invoice_Hours,Invoice_Labor_Category,$D5,Invoice_Company,$C5,Invoice_MSA_Code,$E5)} -> 0 | K5: =IFERROR(L5/J5,"") | L5: {=IFERROR(SUMIFS(Invoice_Direct_Cost,Invoice_Labor_Category,$D5,Invoice_Company,$C5,Invoice_MSA_Code,$E5),"")} -> 0 | M5: =IFERROR(K5-H5,"") | N5: =IFERROR(M5/H5,"") | O5: =IFERROR(M5*J5,"") | P5: =IFERROR(IF(N5>5%,O5*((N5-5%)/N5),""),"") | Q5: =IFERROR(IF(N5>0,O5*(MIN(N5,5%)/N5),""),"") | R5: =IFERROR(IF(AND(K5>0,H5="",L5<>0),L5,""),"") | S5: =IFERROR(IF(N5<0,-O5,""),"") | T5: =IFERROR(IF(AND(K5<>"",H5<>"",K5=H5),L5,""),"") | V5: {=SUMIFS(Invoice_Hours,Invoice_Labor_Category,$D5,Invoice_Company,$C5,Invoice_MSA_Code,$E5)} -> 0 | W5: =IFERROR(IF(AND(H5<>0,K5>H5,(K5-H5)/H5>0.05),(K5-H5),""),"") | X5: =IFERROR(IF(H5="",K5*J5,W5*V5),"") | AB5: =IF(C5=0,"",C5) | AC5: =IF(D5=0,"",D5) | AD5: =IF(F5=0,"",F5) | AE5: =X5
C6: {=IFERROR(_xlfn.TEXTSPLIT(B6,"^"),"")} | F6: {=IFERROR(INDEX(MSA_Title,MATCH(E6,MSA_Code,0)),"")} | G6: {=SUMIFS(Proposed_Hours,Proposed_Labor_Category,$D6,Proposed_Company,$C6,Proposed_MSA_Code,$E6)} -> 0 | H6: =IFERROR(I6/G6,"") | I6: {=IFERROR(IF(SUMIFS(Proposed_Direct_Cost,Proposed_Labor_Category,$D6,Proposed_Company,$C6,Proposed_MSA_Code,$E6)=0,"Not Proposed",SUMIFS(Proposed_Direct_Cost,Proposed_Labor_Category,$D6,Proposed_Company,$C6,Proposed_MSA_Code,$E6)),"")} -> Not Proposed | J6: {=SUMIFS(Invoice_Hours,Invoice_Labor_Category,$D6,Invoice_Company,$C6,Invoice_MSA_Code,$E6)} -> 0 | K6: =IFERROR(L6/J6,"") | L6: {=IFERROR(SUMIFS(Invoice_Direct_Cost,Invoice_Labor_Category,$D6,Invoice_Company,$C6,Invoice_MSA_Code,$E6),"")} -> 0 | M6: =IFERROR(K6-H6,"") | N6: =IFERROR(M6/H6,"") | O6: =IFERROR(M6*J6,"") | P6: =IFERROR(IF(N6>5%,O6*((N6-5%)/N6),""),"") | Q6: =IFERROR(IF(N6>0,O6*(MIN(N6,5%)/N6),""),"") | R6: =IFERROR(IF(AND(K6>0,H6="",L6<>0),L6,""),"") | S6: =IFERROR(IF(N6<0,-O6,""),"") | T6: =IFERROR(IF(AND(K6<>"",H6<>"",K6=H6),L6,""),"") | V6: {=SUMIFS(Invoice_Hours,Invoice_Labor_Category,$D6,Invoice_Company,$C6,Invoice_MSA_Code,$E6)} -> 0 | W6: =IFERROR(IF(AND(H6<>0,K6>H6,(K6-H6)/H6>0.05),(K6-H6),""),"") | X6: =IFERROR(IF(H6="",K6*J6,W6*V6),"") | AB6: =IF(C6=0,"",C6) | AC6: =IF(D6=0,"",D6) | AD6: =IF(F6=0,"",F6) | AE6: =X6
C7: {=IFERROR(_xlfn.TEXTSPLIT(B7,"^"),"")} | F7: {=IFERROR(INDEX(MSA_Title,MATCH(E7,MSA_Code,0)),"")} | G7: {=SUMIFS(Proposed_Hours,Proposed_Labor_Category,$D7,Proposed_Company,$C7,Proposed_MSA_Code,$E7)} -> 0 | H7: =IFERROR(I7/G7,"") | I7: {=IFERROR(IF(SUMIFS(Proposed_Direct_Cost,Proposed_Labor_Category,$D7,Proposed_Company,$C7,Proposed_MSA_Code,$E7)=0,"Not Proposed",SUMIFS(Proposed_Direct_Cost,Proposed_Labor_Category,$D7,Proposed_Company,$C7,Proposed_MSA_Code,$E7)),"")} -> Not Proposed | J7: {=SUMIFS(Invoice_Hours,Invoice_Labor_Category,$D7,Invoice_Company,$C7,Invoice_MSA_Code,$E7)} -> 0 | K7: =IFERROR(L7/J7,"") | L7: {=IFERROR(SUMIFS(Invoice_Direct_Cost,Invoice_Labor_Category,$D7,Invoice_Company,$C7,Invoice_MSA_Code,$E7),"")} -> 0 | M7: =IFERROR(K7-H7,"") | N7: =IFERROR(M7/H7,"") | O7: =IFERROR(M7*J7,"") | P7: =IFERROR(IF(N7>5%,O7*((N7-5%)/N7),""),"") | Q7: =IFERROR(IF(N7>0,O7*(MIN(N7,5%)/N7),""),"") | R7: =IFERROR(IF(AND(K7>0,H7="",L7<>0),L7,""),"") | S7: =IFERROR(IF(N7<0,-O7,""),"") | T7: =IFERROR(IF(AND(K7<>"",H7<>"",K7=H7),L7,""),"") | V7: {=SUMIFS(Invoice_Hours,Invoice_Labor_Category,$D7,Invoice_Company,$C7,Invoice_MSA_Code,$E7)} -> 0 | W7: =IFERROR(IF(AND(H7<>0,K7>H7,(K7-H7)/H7>0.05),(K7-H7),""),"") | X7: =IFERROR(IF(H7="",K7*J7,W7*V7),"") | AB7: =IF(C7=0,"",C7) | AC7: =IF(D7=0,"",D7) | AD7: =IF(F7=0,"",F7) | AE7: =X7
C8: {=IFERROR(_xlfn.TEXTSPLIT(B8,"^"),"")} | F8: {=IFERROR(INDEX(MSA_Title,MATCH(E8,MSA_Code,0)),"")} | G8: {=SUMIFS(Proposed_Hours,Proposed_Labor_Category,$D8,Proposed_Company,$C8,Proposed_MSA_Code,$E8)} -> 0 | H8: =IFERROR(I8/G8,"") | I8: {=IFERROR(IF(SUMIFS(Proposed_Direct_Cost,Proposed_Labor_Category,$D8,Proposed_Company,$C8,Proposed_MSA_Code,$E8)=0,"Not Proposed",SUMIFS(Proposed_Direct_Cost,Proposed_Labor_Category,$D8,Proposed_Company,$C8,Proposed_MSA_Code,$E8)),"")} -> Not Proposed | J8: {=SUMIFS(Invoice_Hours,Invoice_Labor_Category,$D8,Invoice_Company,$C8,Invoice_MSA_Code,$E8)} -> 0 | K8: =IFERROR(L8/J8,"") | L8: {=IFERROR(SUMIFS(Invoice_Direct_Cost,Invoice_Labor_Category,$D8,Invoice_Company,$C8,Invoice_MSA_Code,$E8),"")} -> 0 | M8: =IFERROR(K8-H8,"") | N8: =IFERROR(M8/H8,"") | O8: =IFERROR(M8*J8,"") | P8: =IFERROR(IF(N8>5%,O8*((N8-5%)/N8),""),"") | Q8: =IFERROR(IF(N8>0,O8*(MIN(N8,5%)/N8),""),"") | R8: =IFERROR(IF(AND(K8>0,H8="",L8<>0),L8,""),"") | S8: =IFERROR(IF(N8<0,-O8,""),"") | T8: =IFERROR(IF(AND(K8<>"",H8<>"",K8=H8),L8,""),"") | V8: {=SUMIFS(Invoice_Hours,Invoice_Labor_Category,$D8,Invoice_Company,$C8,Invoice_MSA_Code,$E8)} -> 0 | W8: =IFERROR(IF(AND(H8<>0,K8>H8,(K8-H8)/H8>0.05),(K8-H8),""),"") | X8: =IFERROR(IF(H8="",K8*J8,W8*V8),"") | AB8: =IF(C8=0,"",C8) | AC8: =IF(D8=0,"",D8) | AD8: =IF(F8=0,"",F8) | AE8: =X8
C9: {=IFERROR(_xlfn.TEXTSPLIT(B9,"^"),"")} | F9: {=IFERROR(INDEX(MSA_Title,MATCH(E9,MSA_Code,0)),"")} | G9: {=SUMIFS(Proposed_Hours,Proposed_Labor_Category,$D9,Proposed_Company,$C9,Proposed_MSA_Code,$E9)} -> 0 | H9: =IFERROR(I9/G9,"") | I9: {=IFERROR(IF(SUMIFS(Proposed_Direct_Cost,Proposed_Labor_Category,$D9,Proposed_Company,$C9,Proposed_MSA_Code,$E9)=0,"Not Proposed",SUMIFS(Proposed_Direct_Cost,Proposed_Labor_Category,$D9,Proposed_Company,$C9,Proposed_MSA_Code,$E9)),"")} -> Not Proposed | J9: {=SUMIFS(Invoice_Hours,Invoice_Labor_Category,$D9,Invoice_Company,$C9,Invoice_MSA_Code,$E9)} -> 0 | K9: =IFERROR(L9/J9,"") | L9: {=IFERROR(SUMIFS(Invoice_Direct_Cost,Invoice_Labor_Category,$D9,Invoice_Company,$C9,Invoice_MSA_Code,$E9),"")} -> 0 | M9: =IFERROR(K9-H9,"") | N9: =IFERROR(M9/H9,"") | O9: =IFERROR(M9*J9,"") | P9: =IFERROR(IF(N9>5%,O9*((N9-5%)/N9),""),"") | Q9: =IFERROR(IF(N9>0,O9*(MIN(N9,5%)/N9),""),"") | R9: =IFERROR(IF(AND(K9>0,H9="",L9<>0),L9,""),"") | S9: =IFERROR(IF(N9<0,-O9,""),"") | T9: =IFERROR(IF(AND(K9<>"",H9<>"",K9=H9),L9,""),"") | V9: {=SUMIFS(Invoice_Hours,Invoice_Labor_Category,$D9,Invoice_Company,$C9,Invoice_MSA_Code,$E9)} -> 0 | W9: =IFERROR(IF(AND(H9<>0,K9>H9,(K9-H9)/H9>0.05),(K9-H9),""),"") | X9: =IFERROR(IF(H9="",K9*J9,W9*V9),"") | AB9: =IF(C9=0,"",C9) | AC9: =IF(D9=0,"",D9) | AD9: =IF(F9=0,"",F9) | AE9: =X9
C10: {=IFERROR(_xlfn.TEXTSPLIT(B10,"^"),"")} | F10: {=IFERROR(INDEX(MSA_Title,MATCH(E10,MSA_Code,0)),"")} | G10: {=SUMIFS(Proposed_Hours,Proposed_Labor_Category,$D10,Proposed_Company,$C10,Proposed_MSA_Code,$E10)} -> 0 | H10: =IFERROR(I10/G10,"") | I10: {=IFERROR(IF(SUMIFS(Proposed_Direct_Cost,Proposed_Labor_Category,$D10,Proposed_Company,$C10,Proposed_MSA_Code,$E10)=0,"Not Proposed",SUMIFS(Proposed_Direct_Cost,Proposed_Labor_Category,$D10,Proposed_Company,$C10,Proposed_MSA_Code,$E10)),"")} -> Not Proposed | J10: {=SUMIFS(Invoice_Hours,Invoice_Labor_Category,$D10,Invoice_Company,$C10,Invoice_MSA_Code,$E10)} -> 0 | K10: =IFERROR(L10/J10,"") | L10: {=IFERROR(SUMIFS(Invoice_Direct_Cost,Invoice_Labor_Category,$D10,Invoice_Company,$C10,Invoice_MSA_Code,$E10),"")} -> 0 | M10: =IFERROR(K10-H10,"") | N10: =IFERROR(M10/H10,"") | O10: =IFERROR(M10*J10,"") | P10: =IFERROR(IF(N10>5%,O10*((N10-5%)/N10),""),"") | Q10: =IFERROR(IF(N10>0,O10*(MIN(N10,5%)/N10),""),"") | R10: =IFERROR(IF(AND(K10>0,H10="",L10<>0),L10,""),"") | S10: =IFERROR(IF(N10<0,-O10,""),"") | T10: =IFERROR(IF(AND(K10<>"",H10<>"",K10=H10),L10,""),"") | V10: {=SUMIFS(Invoice_Hours,Invoice_Labor_Category,$D10,Invoice_Company,$C10,Invoice_MSA_Code,$E10)} -> 0 | W10: =IFERROR(IF(AND(H10<>0,K10>H10,(K10-H10)/H10>0.05),(K10-H10),""),"") | X10: =IFERROR(IF(H10="",K10*J10,W10*V10),"") | AB10: =IF(C10=0,"",C10) | AC10: =IF(D10=0,"",D10) | AD10: =IF(F10=0,"",F10) | AE10: =X10
C11: {=IFERROR(_xlfn.TEXTSPLIT(B11,"^"),"")} | F11: {=IFERROR(INDEX(MSA_Title,MATCH(E11,MSA_Code,0)),"")} | G11: {=SUMIFS(Proposed_Hours,Proposed_Labor_Category,$D11,Proposed_Company,$C11,Proposed_MSA_Code,$E11)} -> 0 | H11: =IFERROR(I11/G11,"") | I11: {=IFERROR(IF(SUMIFS(Proposed_Direct_Cost,Proposed_Labor_Category,$D11,Proposed_Company,$C11,Proposed_MSA_Code,$E11)=0,"Not Proposed",SUMIFS(Proposed_Direct_Cost,Proposed_Labor_Category,$D11,Proposed_Company,$C11,Proposed_MSA_Code,$E11)),"")} -> Not Proposed | J11: {=SUMIFS(Invoice_Hours,Invoice_Labor_Category,$D11,Invoice_Company,$C11,Invoice_MSA_Code,$E11)} -> 0 | K11: =IFERROR(L11/J11,"") | L11: {=IFERROR(SUMIFS(Invoice_Direct_Cost,Invoice_Labor_Category,$D11,Invoice_Company,$C11,Invoice_MSA_Code,$E11),"")} -> 0 | M11: =IFERROR(K11-H11,"") | N11: =IFERROR(M11/H11,"") | O11: =IFERROR(M11*J11,"") | P11: =IFERROR(IF(N11>5%,O11*((N11-5%)/N11),""),"") | Q11: =IFERROR(IF(N11>0,O11*(MIN(N11,5%)/N11),""),"") | R11: =IFERROR(IF(AND(K11>0,H11="",L11<>0),L11,""),"") | S11: =IFERROR(IF(N11<0,-O11,""),"") | T11: =IFERROR(IF(AND(K11<>"",H11<>"",K11=H11),L11,""),"") | V11: {=SUMIFS(Invoice_Hours,Invoice_Labor_Category,$D11,Invoice_Company,$C11,Invoice_MSA_Code,$E11)} -> 0 | W11: =IFERROR(IF(AND(H11<>0,K11>H11,(K11-H11)/H11>0.05),(K11-H11),""),"") | X11: =IFERROR(IF(H11="",K11*J11,W11*V11),"") | AB11: =IF(C11=0,"",C11) | AC11: =IF(D11=0,"",D11) | AD11: =IF(F11=0,"",F11) | AE11: =X11
C12: {=IFERROR(_xlfn.TEXTSPLIT(B12,"^"),"")} | F12: {=IFERROR(INDEX(MSA_Title,MATCH(E12,MSA_Code,0)),"")} | G12: {=SUMIFS(Proposed_Hours,Proposed_Labor_Category,$D12,Proposed_Company,$C12,Proposed_MSA_Code,$E12)} -> 0 | H12: =IFERROR(I12/G12,"") | I12: {=IFERROR(IF(SUMIFS(Proposed_Direct_Cost,Proposed_Labor_Category,$D12,Proposed_Company,$C12,Proposed_MSA_Code,$E12)=0,"Not Proposed",SUMIFS(Proposed_Direct_Cost,Proposed_Labor_Category,$D12,Proposed_Company,$C12,Proposed_MSA_Code,$E12)),"")} -> Not Proposed | J12: {=SUMIFS(Invoice_Hours,Invoice_Labor_Category,$D12,Invoice_Company,$C12,Invoice_MSA_Code,$E12)} -> 0 | K12: =IFERROR(L12/J12,"") | L12: {=IFERROR(SUMIFS(Invoice_Direct_Cost,Invoice_Labor_Category,$D12,Invoice_Company,$C12,Invoice_MSA_Code,$E12),"")} -> 0 | M12: =IFERROR(K12-H12,"") | N12: =IFERROR(M12/H12,"") | O12: =IFERROR(M12*J12,"") | P12: =IFERROR(IF(N12>5%,O12*((N12-5%)/N12),""),"") | Q12: =IFERROR(IF(N12>0,O12*(MIN(N12,5%)/N12),""),"") | R12: =IFERROR(IF(AND(K12>0,H12="",L12<>0),L12,""),"") | S12: =IFERROR(IF(N12<0,-O12,""),"") | T12: =IFERROR(IF(AND(K12<>"",H12<>"",K12=H12),L12,""),"") | V12: {=SUMIFS(Invoice_Hours,Invoice_Labor_Category,$D12,Invoice_Company,$C12,Invoice_MSA_Code,$E12)} -> 0 | W12: =IFERROR(IF(AND(H12<>0,K12>H12,(K12-H12)/H12>0.05),(K12-H12),""),"") | X12: =IFERROR(IF(H12="",K12*J12,W12*V12),"") | AB12: =IF(C12=0,"",C12) | AC12: =IF(D12=0,"",D12) | AD12: =IF(F12=0,"",F12) | AE12: =X12
C13: {=IFERROR(_xlfn.TEXTSPLIT(B13,"^"),"")} | F13: {=IFERROR(INDEX(MSA_Title,MATCH(E13,MSA_Code,0)),"")} | G13: {=SUMIFS(Proposed_Hours,Proposed_Labor_Category,$D13,Proposed_Company,$C13,Proposed_MSA_Code,$E13)} -> 0 | H13: =IFERROR(I13/G13,"") | I13: {=IFERROR(IF(SUMIFS(Proposed_Direct_Cost,Proposed_Labor_Category,$D13,Proposed_Company,$C13,Proposed_MSA_Code,$E13)=0,"Not Proposed",SUMIFS(Proposed_Direct_Cost,Proposed_Labor_Category,$D13,Proposed_Company,$C13,Proposed_MSA_Code,$E13)),"")} -> Not Proposed | J13: {=SUMIFS(Invoice_Hours,Invoice_Labor_Category,$D13,Invoice_Company,$C13,Invoice_MSA_Code,$E13)} -> 0 | K13: =IFERROR(L13/J13,"") | L13: {=IFERROR(SUMIFS(Invoice_Direct_Cost,Invoice_Labor_Category,$D13,Invoice_Company,$C13,Invoice_MSA_Code,$E13),"")} -> 0 | M13: =IFERROR(K13-H13,"") | N13: =IFERROR(M13/H13,"") | O13: =IFERROR(M13*J13,"") | P13: =IFERROR(IF(N13>5%,O13*((N13-5%)/N13),""),"") | Q13: =IFERROR(IF(N13>0,O13*(MIN(N13,5%)/N13),""),"") | R13: =IFERROR(IF(AND(K13>0,H13="",L13<>0),L13,""),"") | S13: =IFERROR(IF(N13<0,-O13,""),"") | T13: =IFERROR(IF(AND(K13<>"",H13<>"",K13=H13),L13,""),"") | V13: {=SUMIFS(Invoice_Hours,Invoice_Labor_Category,$D13,Invoice_Company,$C13,Invoice_MSA_Code,$E13)} -> 0 | W13: =IFERROR(IF(AND(H13<>0,K13>H13,(K13-H13)/H13>0.05),(K13-H13),""),"") | X13: =IFERROR(IF(H13="",K13*J13,W13*V13),"") | AB13: =IF(C13=0,"",C13) | AC13: =IF(D13=0,"",D13) | AD13: =IF(F13=0,"",F13) | AE13: =X13
